BEGIN:VCALENDAR
VERSION:2.0
PRODID:-//Department Of Education//adc5f596-53b3-4b9c-8aa3-7c05d392a49b
BEGIN:VTIMEZONE
TZID:Australia/Sydney
TZURL:http://tzurl.org/zoneinfo-outlook/Australia/Sydney
X-LIC-LOCATION:Australia/Sydney
BEGIN:STANDARD
TZOFFSETFROM:+1100
TZOFFSETTO:+1000
TZNAME:AEST
DTSTART:19700405T030000
RRULE:FREQ=YEARLY;BYMONTH=4;BYDAY=1SU
END:STANDARD
BEGIN:DAYLIGHT
TZOFFSETFROM:+1000
TZOFFSETTO:+1100
TZNAME:AEDT
DTSTART:19701004T020000
RRULE:FREQ=YEARLY;BYMONTH=10;BYDAY=1SU
END:DAYLIGHT
END:VTIMEZONE
CALSCALE:GREGORIAN
X-WR-TIMEZONE:Australia/Sydney
BEGIN:VEVENT
DTSTART;VALUE=DATE:20200612
DTEND;VALUE=DATE:20200614
DTSTAMP:20200612T000000Z
UID:e3682990-71fe-4116-9308-77f59bbd72d9
LOCATION:Newcastle Entertainment Centre 
SUMMARY;LANGUAGE=en-us:Star Struck 2020
SEQUENCE:0
DESCRIPTION:        
END:VEVENT
TRANSP:TRANSPARENT
END:VCALENDAR
